Package: multistateQTL Version: 2.3.0 Command: /home/biocbuild/bbs-3.23-bioc/R/bin/R CMD build --keep-empty-dirs --no-resave-data multistateQTL StartedAt: 2025-11-20 18:56:01 -0500 (Thu, 20 Nov 2025) EndedAt: 2025-11-20 18:56:55 -0500 (Thu, 20 Nov 2025) EllapsedTime: 54.1 seconds RetCode: 0 Status: OK PackageFile: multistateQTL_2.3.0.tar.gz PackageFileSize: 863.3 KiB