Package: multistateQTL Version: 2.1.2 Command: /Library/Frameworks/R.framework/Resources/bin/R CMD INSTALL multistateQTL StartedAt: 2025-10-20 15:30:02 -0400 (Mon, 20 Oct 2025) EndedAt: 2025-10-20 15:30:41 -0400 (Mon, 20 Oct 2025) EllapsedTime: 39.0 seconds RetCode: 0 Status: OK