Package: multistateQTL Version: 2.1.2 Command: /Library/Frameworks/R.framework/Resources/bin/R CMD build --keep-empty-dirs --no-resave-data multistateQTL StartedAt: 2025-10-19 18:25:39 -0400 (Sun, 19 Oct 2025) EndedAt: 2025-10-19 18:27:07 -0400 (Sun, 19 Oct 2025) EllapsedTime: 87.6 seconds RetCode: 0 Status: OK PackageFile: multistateQTL_2.1.2.tar.gz PackageFileSize: 856.6 KiB