Package: multistateQTL Version: 2.1.2 Command: rm -rf multistateQTL.buildbin-libdir && mkdir multistateQTL.buildbin-libdir && /Users/biocbuild/BBS/utils/build-universal.sh multistateQTL_2.1.2.tar.gz /Library/Frameworks/R.framework/Resources/bin/R multistateQTL.buildbin-libdir StartedAt: 2025-10-20 03:21:42 -0400 (Mon, 20 Oct 2025) EndedAt: 2025-10-20 03:22:25 -0400 (Mon, 20 Oct 2025) EllapsedTime: 42.6 seconds RetCode: 0 Status: OK PackageFile: multistateQTL_2.1.2.tgz PackageFileSize: 933.9 KiB