Package: multistateQTL Version: 2.1.1 Command: rm -rf multistateQTL.buildbin-libdir && mkdir multistateQTL.buildbin-libdir && /Users/biocbuild/BBS/utils/build-universal.sh multistateQTL_2.1.1.tar.gz /Library/Frameworks/R.framework/Resources/bin/R multistateQTL.buildbin-libdir StartedAt: 2025-10-03 22:48:05 -0400 (Fri, 03 Oct 2025) EndedAt: 2025-10-03 22:48:17 -0400 (Fri, 03 Oct 2025) EllapsedTime: 12.3 seconds RetCode: 0 Status: OK PackageFile: multistateQTL_2.1.1.tgz PackageFileSize: 937.8 KiB