Package: multistateQTL Version: 2.3.0 Maintainer: Amelia Dunstone MaintainerEmail: amelia.dunstone at svi.edu.au git_url: https://git.bioconductor.org/packages/multistateQTL git_branch: devel git_last_commit: b4ce60c git_last_commit_date: 2025-10-29 11:29:43 -0400 (Wed, 29 Oct 2025)