Package: multiscan Version: 1.71.0 Command: /home/biocbuild/bbs-3.23-bioc/R/bin/R CMD INSTALL multiscan StartedAt: 2025-11-21 15:14:49 -0500 (Fri, 21 Nov 2025) EndedAt: 2025-11-21 15:14:52 -0500 (Fri, 21 Nov 2025) EllapsedTime: 2.8 seconds RetCode: 0 Status: OK