Package: multiscan Version: 1.71.0 Command: /home/biocbuild/bbs-3.23-bioc/R/bin/R CMD build --keep-empty-dirs --no-resave-data multiscan StartedAt: 2025-11-21 18:57:41 -0500 (Fri, 21 Nov 2025) EndedAt: 2025-11-21 18:57:49 -0500 (Fri, 21 Nov 2025) EllapsedTime: 8.0 seconds RetCode: 0 Status: OK PackageFile: multiscan_1.71.0.tar.gz PackageFileSize: 751.4 KiB