Package: multiscan Version: 1.71.0 Command: /Library/Frameworks/R.framework/Resources/bin/R CMD INSTALL multiscan StartedAt: 2025-11-20 15:10:06 -0500 (Thu, 20 Nov 2025) EndedAt: 2025-11-20 15:10:07 -0500 (Thu, 20 Nov 2025) EllapsedTime: 1.9 seconds RetCode: 0 Status: OK