Package: multiscan Version: 1.71.0 Command: /Library/Frameworks/R.framework/Resources/bin/R CMD build --keep-empty-dirs --no-resave-data multiscan StartedAt: 2025-11-20 17:07:34 -0500 (Thu, 20 Nov 2025) EndedAt: 2025-11-20 17:07:40 -0500 (Thu, 20 Nov 2025) EllapsedTime: 6.1 seconds RetCode: 0 Status: OK PackageFile: multiscan_1.71.0.tar.gz PackageFileSize: 751.2 KiB