Package: multiscan Version: 1.71.0 Command: rm -rf multiscan.buildbin-libdir && mkdir multiscan.buildbin-libdir && /Users/biocbuild/BBS/utils/build-universal.sh multiscan_1.71.0.tar.gz /Library/Frameworks/R.framework/Resources/bin/R multiscan.buildbin-libdir StartedAt: 2025-11-20 23:43:21 -0500 (Thu, 20 Nov 2025) EndedAt: 2025-11-20 23:43:24 -0500 (Thu, 20 Nov 2025) EllapsedTime: 3.1 seconds RetCode: 0 Status: OK PackageFile: multiscan_1.71.0.tgz PackageFileSize: 779.2 KiB