Package: multicrispr Version: 1.19.1 Command: /home/biocbuild/R/R/bin/R CMD INSTALL multicrispr StartedAt: 2025-10-09 21:50:03 -0000 (Thu, 09 Oct 2025) EndedAt: 2025-10-09 21:50:47 -0000 (Thu, 09 Oct 2025) EllapsedTime: 44.3 seconds RetCode: 0 Status: OK