Package: multicrispr Version: 1.19.1 Command: /home/biocbuild/R/R/bin/R CMD build --keep-empty-dirs --no-resave-data multicrispr StartedAt: 2025-10-10 02:32:15 -0000 (Fri, 10 Oct 2025) EndedAt: 2025-10-10 02:33:56 -0000 (Fri, 10 Oct 2025) EllapsedTime: 101.2 seconds RetCode: 1 Status: ERROR PackageFile: None PackageFileSize: NA