Package: multicrispr Version: 1.19.1 Command: chmod a+r multicrispr -R && F:\biocbuild\bbs-3.22-bioc\R\bin\R.exe CMD build --keep-empty-dirs --no-resave-data multicrispr StartedAt: 2025-08-14 21:47:58 -0400 (Thu, 14 Aug 2025) EndedAt: 2025-08-14 21:50:37 -0400 (Thu, 14 Aug 2025) EllapsedTime: 159.5 seconds RetCode: 0 Status: OK PackageFile: multicrispr_1.19.1.tar.gz PackageFileSize: 1.967 MiB