Package: multicrispr Version: 1.19.1 Command: rm -rf multicrispr.buildbin-libdir && mkdir multicrispr.buildbin-libdir && F:\biocbuild\bbs-3.22-bioc\R\bin\R.exe CMD INSTALL --build --library=multicrispr.buildbin-libdir multicrispr_1.19.1.tar.gz StartedAt: 2025-08-15 10:47:34 -0400 (Fri, 15 Aug 2025) EndedAt: 2025-08-15 10:49:16 -0400 (Fri, 15 Aug 2025) EllapsedTime: 101.3 seconds RetCode: 0 Status: OK PackageFile: multicrispr_1.19.1.zip PackageFileSize: 2.135 MiB