Package: multicrispr Version: 1.19.1 Command: /home/biocbuild/bbs-3.22-bioc/R/bin/R CMD check --install=check:multicrispr.install-out.txt --library=/home/biocbuild/bbs-3.22-bioc/R/site-library --timings multicrispr_1.19.1.tar.gz StartedAt: 2025-10-04 02:08:33 -0400 (Sat, 04 Oct 2025) EndedAt: 2025-10-04 02:16:25 -0400 (Sat, 04 Oct 2025) EllapsedTime: 471.6 seconds RetCode: 0 Status: OK CheckDir: multicrispr.Rcheck Warnings: 0