Package: multicrispr Version: 1.21.0 Command: /home/biocbuild/bbs-3.23-bioc/R/bin/R CMD INSTALL multicrispr StartedAt: 2025-11-04 15:42:45 -0500 (Tue, 04 Nov 2025) EndedAt: 2025-11-04 15:43:22 -0500 (Tue, 04 Nov 2025) EllapsedTime: 36.4 seconds RetCode: 0 Status: OK