Package: multiWGCNA Version: 1.7.0 Command: /home/biocbuild/R/R/bin/R CMD INSTALL multiWGCNA StartedAt: 2025-10-13 21:35:36 -0000 (Mon, 13 Oct 2025) EndedAt: 2025-10-13 21:36:19 -0000 (Mon, 13 Oct 2025) EllapsedTime: 43.4 seconds RetCode: 0 Status: OK