Package: multiWGCNA Version: 1.7.0 Command: /home/biocbuild/R/R/bin/R CMD build --keep-empty-dirs --no-resave-data multiWGCNA StartedAt: 2025-10-14 02:08:24 -0000 (Tue, 14 Oct 2025) EndedAt: 2025-10-14 02:13:54 -0000 (Tue, 14 Oct 2025) EllapsedTime: 329.2 seconds RetCode: 0 Status: OK PackageFile: multiWGCNA_1.7.0.tar.gz PackageFileSize: 1.964 MiB