Package: multiWGCNA Version: 1.7.0 Command: /home/biocbuild/bbs-3.22-bioc/R/bin/R CMD check --install=check:multiWGCNA.install-out.txt --library=/home/biocbuild/bbs-3.22-bioc/R/site-library --timings multiWGCNA_1.7.0.tar.gz StartedAt: 2025-10-06 02:19:18 -0400 (Mon, 06 Oct 2025) EndedAt: 2025-10-06 02:33:03 -0400 (Mon, 06 Oct 2025) EllapsedTime: 825.0 seconds RetCode: 0 Status: OK CheckDir: multiWGCNA.Rcheck Warnings: 0