Package: multiWGCNA Version: 1.9.0 Command: /home/biocbuild/bbs-3.23-bioc/R/bin/R CMD check --install=check:multiWGCNA.install-out.txt --library=/home/biocbuild/bbs-3.23-bioc/R/site-library --timings multiWGCNA_1.9.0.tar.gz StartedAt: 2025-11-08 01:54:10 -0500 (Sat, 08 Nov 2025) EndedAt: 2025-11-08 02:04:14 -0500 (Sat, 08 Nov 2025) EllapsedTime: 604.1 seconds RetCode: 1 Status: ERROR CheckDir: multiWGCNA.Rcheck Warnings: NA