Package: multiWGCNA Version: 1.9.0 Command: /home/biocbuild/bbs-3.23-bioc/R/bin/R CMD build --keep-empty-dirs --no-resave-data multiWGCNA StartedAt: 2025-11-05 18:57:56 -0500 (Wed, 05 Nov 2025) EndedAt: 2025-11-05 19:02:05 -0500 (Wed, 05 Nov 2025) EllapsedTime: 248.2 seconds RetCode: 0 Status: OK PackageFile: multiWGCNA_1.9.0.tar.gz PackageFileSize: 3.429 MiB