Package: multiMiR Version: 1.31.0 Command: F:\biocbuild\bbs-3.22-bioc\R\bin\R.exe CMD INSTALL multiMiR StartedAt: 2025-08-14 15:54:26 -0400 (Thu, 14 Aug 2025) EndedAt: 2025-08-14 15:55:07 -0400 (Thu, 14 Aug 2025) EllapsedTime: 40.1 seconds RetCode: 0 Status: OK