Package: multiMiR Version: 1.31.0 Command: rm -rf multiMiR.buildbin-libdir && mkdir multiMiR.buildbin-libdir && F:\biocbuild\bbs-3.22-bioc\R\bin\R.exe CMD INSTALL --build --library=multiMiR.buildbin-libdir multiMiR_1.31.0.tar.gz StartedAt: 2025-08-15 10:48:07 -0400 (Fri, 15 Aug 2025) EndedAt: 2025-08-15 10:48:48 -0400 (Fri, 15 Aug 2025) EllapsedTime: 40.9 seconds RetCode: 0 Status: OK PackageFile: multiMiR_1.31.0.zip PackageFileSize: 639.6 KiB