Package: multiMiR Version: 1.33.0 Command: /home/biocbuild/bbs-3.23-bioc/R/bin/R CMD INSTALL multiMiR StartedAt: 2025-11-05 15:32:33 -0500 (Wed, 05 Nov 2025) EndedAt: 2025-11-05 15:32:49 -0500 (Wed, 05 Nov 2025) EllapsedTime: 15.5 seconds RetCode: 0 Status: OK