Package: multiMiR Version: 1.33.0 Command: /home/biocbuild/bbs-3.23-bioc/R/bin/R CMD build --keep-empty-dirs --no-resave-data multiMiR StartedAt: 2025-11-04 18:50:25 -0500 (Tue, 04 Nov 2025) EndedAt: 2025-11-04 18:52:04 -0500 (Tue, 04 Nov 2025) EllapsedTime: 99.1 seconds RetCode: 0 Status: OK PackageFile: multiMiR_1.33.0.tar.gz PackageFileSize: 332.4 KiB