Package: multiHiCcompare Version: 1.27.0 Command: /home/biocbuild/bbs-3.22-bioc/R/bin/R CMD INSTALL multiHiCcompare StartedAt: 2025-10-15 15:31:46 -0400 (Wed, 15 Oct 2025) EndedAt: 2025-10-15 15:32:16 -0400 (Wed, 15 Oct 2025) EllapsedTime: 29.5 seconds RetCode: 0 Status: OK