Package: multiHiCcompare Version: 1.29.0 Command: /home/biocbuild/bbs-3.23-bioc/R/bin/R CMD INSTALL multiHiCcompare StartedAt: 2025-11-06 15:31:02 -0500 (Thu, 06 Nov 2025) EndedAt: 2025-11-06 15:31:31 -0500 (Thu, 06 Nov 2025) EllapsedTime: 29.5 seconds RetCode: 0 Status: OK