Package: multiHiCcompare Version: 1.29.0 Command: /home/biocbuild/bbs-3.23-bioc/R/bin/R CMD check --install=check:multiHiCcompare.install-out.txt --library=/home/biocbuild/bbs-3.23-bioc/R/site-library --timings multiHiCcompare_1.29.0.tar.gz StartedAt: 2025-11-07 01:39:46 -0500 (Fri, 07 Nov 2025) EndedAt: 2025-11-07 01:44:11 -0500 (Fri, 07 Nov 2025) EllapsedTime: 265.5 seconds RetCode: 0 Status: OK CheckDir: multiHiCcompare.Rcheck Warnings: 0