Package: multiHiCcompare Version: 1.28.0 Command: /Library/Frameworks/R.framework/Resources/bin/R CMD check --install=check:multiHiCcompare.install-out.txt --library=/Library/Frameworks/R.framework/Resources/library --no-vignettes --timings multiHiCcompare_1.28.0.tar.gz StartedAt: 2025-10-30 05:30:20 -0400 (Thu, 30 Oct 2025) EndedAt: 2025-10-30 05:34:50 -0400 (Thu, 30 Oct 2025) EllapsedTime: 269.9 seconds RetCode: 0 Status: OK CheckDir: multiHiCcompare.Rcheck Warnings: 0