Package: multiGSEA Version: 1.19.0 Command: /home/biocbuild/R/R/bin/R CMD INSTALL multiGSEA StartedAt: 2025-10-16 21:44:37 -0000 (Thu, 16 Oct 2025) EndedAt: 2025-10-16 21:47:00 -0000 (Thu, 16 Oct 2025) EllapsedTime: 143.5 seconds RetCode: 0 Status: OK