Package: multiGSEA Version: 1.19.0 Command: /home/biocbuild/R/R/bin/R CMD build --keep-empty-dirs --no-resave-data multiGSEA StartedAt: 2025-10-17 03:04:30 -0000 (Fri, 17 Oct 2025) EndedAt: 2025-10-17 03:44:31 -0000 (Fri, 17 Oct 2025) EllapsedTime: 2400.5 seconds RetCode: None Status: TIMEOUT PackageFile: None PackageFileSize: NA