Package: multiGSEA Version: 1.19.0 Command: /home/biocbuild/bbs-3.22-bioc/R/bin/R CMD check --install=check:multiGSEA.install-out.txt --library=/home/biocbuild/bbs-3.22-bioc/R/site-library --timings multiGSEA_1.19.0.tar.gz StartedAt: 2025-10-16 02:50:16 -0400 (Thu, 16 Oct 2025) EndedAt: 2025-10-16 03:18:59 -0400 (Thu, 16 Oct 2025) EllapsedTime: 1723.1 seconds RetCode: 0 Status: OK CheckDir: multiGSEA.Rcheck Warnings: 0