Package: multiGSEA Version: 1.21.0 Command: /home/biocbuild/bbs-3.23-bioc/R/bin/R CMD INSTALL multiGSEA StartedAt: 2025-11-05 15:36:09 -0500 (Wed, 05 Nov 2025) EndedAt: 2025-11-05 15:37:25 -0500 (Wed, 05 Nov 2025) EllapsedTime: 76.3 seconds RetCode: 0 Status: OK