Package: multiGSEA Version: 1.21.0 Command: /home/biocbuild/bbs-3.23-bioc/R/bin/R CMD build --keep-empty-dirs --no-resave-data multiGSEA StartedAt: 2025-11-05 18:57:33 -0500 (Wed, 05 Nov 2025) EndedAt: 2025-11-05 19:17:53 -0500 (Wed, 05 Nov 2025) EllapsedTime: 1219.4 seconds RetCode: 0 Status: OK PackageFile: multiGSEA_1.21.0.tar.gz PackageFileSize: 952.8 KiB