Package: multiGSEA Version: 1.19.0 Command: /Library/Frameworks/R.framework/Resources/bin/R CMD build --keep-empty-dirs --no-resave-data multiGSEA StartedAt: 2025-09-28 17:57:17 -0400 (Sun, 28 Sep 2025) EndedAt: 2025-09-28 18:25:22 -0400 (Sun, 28 Sep 2025) EllapsedTime: 1684.8 seconds RetCode: 0 Status: OK PackageFile: multiGSEA_1.19.0.tar.gz PackageFileSize: 952.7 KiB