Package: multiClust Version: 1.39.0 Command: /home/biocbuild/R/R/bin/R CMD INSTALL multiClust StartedAt: 2025-10-23 20:25:44 -0000 (Thu, 23 Oct 2025) EndedAt: 2025-10-23 20:25:57 -0000 (Thu, 23 Oct 2025) EllapsedTime: 13.0 seconds RetCode: 0 Status: OK