Package: multiClust Version: 1.41.0 Command: /home/biocbuild/bbs-3.23-bioc/R/bin/R CMD INSTALL multiClust StartedAt: 2025-11-20 15:08:04 -0500 (Thu, 20 Nov 2025) EndedAt: 2025-11-20 15:08:13 -0500 (Thu, 20 Nov 2025) EllapsedTime: 9.1 seconds RetCode: 0 Status: OK