Package: multiClust Version: 1.41.0 Command: /home/biocbuild/bbs-3.23-bioc/R/bin/R CMD check --install=check:multiClust.install-out.txt --library=/home/biocbuild/bbs-3.23-bioc/R/site-library --timings multiClust_1.41.0.tar.gz StartedAt: 2025-11-22 01:52:50 -0500 (Sat, 22 Nov 2025) EndedAt: 2025-11-22 01:54:11 -0500 (Sat, 22 Nov 2025) EllapsedTime: 80.1 seconds RetCode: 0 Status: OK CheckDir: multiClust.Rcheck Warnings: 0