Package: msqrob2 Version: 1.19.0 Command: /home/biocbuild/bbs-3.23-bioc/R/bin/R CMD INSTALL msqrob2 StartedAt: 2025-11-05 15:42:08 -0500 (Wed, 05 Nov 2025) EndedAt: 2025-11-05 15:42:37 -0500 (Wed, 05 Nov 2025) EllapsedTime: 29.7 seconds RetCode: 0 Status: OK