Package: msqrob2 Version: 1.19.0 Command: /home/biocbuild/bbs-3.23-bioc/R/bin/R CMD build --keep-empty-dirs --no-resave-data msqrob2 StartedAt: 2025-11-06 18:48:02 -0500 (Thu, 06 Nov 2025) EndedAt: 2025-11-06 18:49:54 -0500 (Thu, 06 Nov 2025) EllapsedTime: 112.1 seconds RetCode: 0 Status: OK PackageFile: msqrob2_1.19.0.tar.gz PackageFileSize: 2.528 MiB