Package: msqrob2 Version: 1.17.1 Command: rm -rf msqrob2.buildbin-libdir && mkdir msqrob2.buildbin-libdir && /Users/biocbuild/BBS/utils/build-universal.sh msqrob2_1.17.1.tar.gz /Library/Frameworks/R.framework/Resources/bin/R msqrob2.buildbin-libdir StartedAt: 2025-10-15 02:56:13 -0400 (Wed, 15 Oct 2025) EndedAt: 2025-10-15 02:57:00 -0400 (Wed, 15 Oct 2025) EllapsedTime: 47.5 seconds RetCode: 0 Status: OK PackageFile: msqrob2_1.17.1.tgz PackageFileSize: 2.671 MiB