Package: msqrob2 Version: 1.17.1 Command: /Library/Frameworks/R.framework/Resources/bin/R CMD build --keep-empty-dirs --no-resave-data msqrob2 StartedAt: 2025-10-05 17:11:04 -0400 (Sun, 05 Oct 2025) EndedAt: 2025-10-05 17:11:53 -0400 (Sun, 05 Oct 2025) EllapsedTime: 48.5 seconds RetCode: 0 Status: OK PackageFile: msqrob2_1.17.1.tar.gz PackageFileSize: 2.348 MiB