Package: msqrob2 Version: 1.17.1 Command: rm -rf msqrob2.buildbin-libdir && mkdir msqrob2.buildbin-libdir && /Users/biocbuild/BBS/utils/build-universal.sh msqrob2_1.17.1.tar.gz /Library/Frameworks/R.framework/Resources/bin/R msqrob2.buildbin-libdir StartedAt: 2025-10-05 22:51:18 -0400 (Sun, 05 Oct 2025) EndedAt: 2025-10-05 22:51:33 -0400 (Sun, 05 Oct 2025) EllapsedTime: 14.3 seconds RetCode: 0 Status: OK PackageFile: msqrob2_1.17.1.tgz PackageFileSize: 2.676 MiB