Package: msqrob2 Version: 1.19.0 Maintainer: Lieven Clement MaintainerEmail: lieven.clement at ugent.be git_url: https://git.bioconductor.org/packages/msqrob2 git_branch: devel git_last_commit: 1fe284d git_last_commit_date: 2025-10-29 11:09:38 -0400 (Wed, 29 Oct 2025)