Package: msmsTests Version: 1.49.0 Command: /home/biocbuild/bbs-3.23-bioc/R/bin/R CMD INSTALL msmsTests StartedAt: 2025-11-20 15:38:03 -0500 (Thu, 20 Nov 2025) EndedAt: 2025-11-20 15:38:40 -0500 (Thu, 20 Nov 2025) EllapsedTime: 37.0 seconds RetCode: 0 Status: OK