Package: msmsTests Version: 1.49.0 Command: /home/biocbuild/bbs-3.23-bioc/R/bin/R CMD check --install=check:msmsTests.install-out.txt --library=/home/biocbuild/bbs-3.23-bioc/R/site-library --timings msmsTests_1.49.0.tar.gz StartedAt: 2025-11-21 01:46:37 -0500 (Fri, 21 Nov 2025) EndedAt: 2025-11-21 01:50:41 -0500 (Fri, 21 Nov 2025) EllapsedTime: 244.2 seconds RetCode: 0 Status: OK CheckDir: msmsTests.Rcheck Warnings: 0