Package: msmsTests Version: 1.49.0 Command: /home/biocbuild/bbs-3.23-bioc/R/bin/R CMD build --keep-empty-dirs --no-resave-data msmsTests StartedAt: 2025-11-20 18:52:41 -0500 (Thu, 20 Nov 2025) EndedAt: 2025-11-20 18:53:58 -0500 (Thu, 20 Nov 2025) EllapsedTime: 77.1 seconds RetCode: 0 Status: OK PackageFile: msmsTests_1.49.0.tar.gz PackageFileSize: 548.4 KiB