Package: msmsEDA Version: 1.47.0 Command: /home/biocbuild/R/R/bin/R CMD INSTALL msmsEDA StartedAt: 2025-10-13 21:17:20 -0000 (Mon, 13 Oct 2025) EndedAt: 2025-10-13 21:18:05 -0000 (Mon, 13 Oct 2025) EllapsedTime: 44.8 seconds RetCode: 0 Status: OK