Package: msmsEDA Version: 1.47.0 Command: /home/biocbuild/R/R/bin/R CMD build --keep-empty-dirs --no-resave-data msmsEDA StartedAt: 2025-10-14 02:02:41 -0000 (Tue, 14 Oct 2025) EndedAt: 2025-10-14 02:03:49 -0000 (Tue, 14 Oct 2025) EllapsedTime: 68.0 seconds RetCode: 0 Status: OK PackageFile: msmsEDA_1.47.0.tar.gz PackageFileSize: 433 KiB